Workbook

Sheet SAŽETAK
A1: PRIJEDLOG REBALANSA FINANCIJSKOG PLANA OSNOVNE ŠKOLE BARTULA KAŠIĆA ZA 2026. I PROJEKCIJA ZA 2027. I 2028. GODINU
A3: I. OPĆI DIO
A5: A) SAŽETAK RAČUNA PRIHODA I RASHODA
K6: EUR
F7: Izvršenje 2024.* | G7: Tekući plan 2025. | H7: Plan za 2026. | I7: Reb br.1 Plana za 2026. | J7: Projekcija plana za 2027. | K7: Projekcija plana za 2028.
A8: PRIHODI UKUPNO | F8: =F9+F10 -> 4204660 | G8: =G9+G10 -> 5120808.9 | H8: =H9+H10 -> 5157003 | I8: =I9+I10 -> 5323223.6 | J8: =J9+J10 -> 4970869.5 | K8: =K9+K10 -> 4930869.5
A9: 6 PRIHODI POSLOVANJA | F9: =' Račun prihoda i rashoda po eko'!D11 -> 4204660 | G9: =' Račun prihoda i rashoda po eko'!E11 -> 5120808.9 | H9: =' Račun prihoda i rashoda po eko'!F11 -> 5157003 | I9: =' Račun prihoda i rashoda po eko'!G11 -> 5323223.6 | J9: =' Račun prihoda i rashoda po eko'!H11 -> 4970869.5 | K9: =' Račun prihoda i rashoda po eko'!I11 -> 4930869.5
A10: 7 PRIHODI OD PRODAJE NEFINANCIJSKE IMOVINE
A11: RASHODI UKUPNO | F11: =F12+F13 -> 4243900.2 | G11: =G12+G13 -> 5095713.9 | H11: =H12+H13 -> 4763203 | I11: =I12+I13 -> 4991274.5 | J11: =J12+J13 -> 4970869.5 | K11: =K12+K13 -> 4930869.5
A12: 3 RASHODI POSLOVANJA | F12: =' Račun prihoda i rashoda po eko'!D24 -> 4108178 | G12: 5095713.9 | H12: =' Račun prihoda i rashoda po eko'!F24 -> 4580403 | I12: =' Račun prihoda i rashoda po eko'!G24 -> 4786573.5 | J12: =' Račun prihoda i rashoda po eko'!H24 -> 4773568.5 | K12: =' Račun prihoda i rashoda po eko'!I24 -> 4773568.5
A13: 4 RASHODI ZA NABAVU NEFINANCIJSKE IMOVINE | F13: =' Račun prihoda i rashoda po eko'!D30 -> 135722.18 | H13: =' Račun prihoda i rashoda po eko'!F30 -> 182800 | I13: =' Račun prihoda i rashoda po eko'!G30 -> 204701 | J13: =' Račun prihoda i rashoda po eko'!H30 -> 197301 | K13: =' Račun prihoda i rashoda po eko'!I30 -> 157301
A14: RAZLIKA - VIŠAK / MANJAK | F14: =F8-F11 -> -39240.17 | G14: =G8-G11 -> 25094.99 | H14: =H8-H11 -> 393800 | I14: =I8-I11 -> 331949.13 | J14: =J8-J11 -> 0 | K14: =K8-K11 -> 0
A16: B) SAŽETAK RAČUNA FINANCIRANJA
F18: Izvršenje 2024.* | G18: Tekući plan 2025. | H18: Plan za 2026. | I18: Reb br.1 Plana za 2026. | J18: Projekcija plana za 2027. | K18: Projekcija plana za 2028.
A19: 8 PRIMICI OD FINANCIJSKE IMOVINE I ZADUŽIVANJA
A20: 5 IZDACI ZA FINANCIJSKU IMOVINU I OTPLATE ZAJMOVA
A21: NETO FINANCIRANJE | F21: =F19-F20 -> 0 | G21: =G19-G20 -> 0 | H21: =H19-H20 -> 0 | I21: =I19-I20 -> 0 | J21: =J19-J20 -> 0 | K21: =K19-K20 -> 0
A22: VIŠAK / MANJAK + NETO FINANCIRANJE | F22: =F14+F21 -> -39240.17 | G22: =G14+G21 -> 25094.99 | H22: =H14+H21 -> 393800 | I22: =I14+I21 -> 331949.13 | J22: =J14+J21 -> 0 | K22: =K14+K21 -> 0
A24: C) PRENESENI VIŠAK ILI PRENESENI MANJAK
F26: Izvršenje 2024.* | G26: Tekući plan 2025. | H26: Plan za 2026. | I26: Reb br.1 Plana za 2026. | J26: Projekcija plana za 2027. | K26: Projekcija plana za 2028.
A27: PRIJENOS VIŠKA / MANJKA IZ PRETHODNE(IH) GODINE | F27: 14145.18 | G27: -25094.99 | H27: -393800 | I27: -331949.13
A28: PRIJENOS VIŠKA / MANJKA U SLJEDEĆE RAZDOBLJE | G28: =G22+G27 -> 2.2191671e-10
A29: VIŠAK / MANJAK + NETO FINANCIRANJE + PRIJENOS VIŠKA / MANJKA IZ PRETHODNE(IH) GODINE - PRIJENOS VIŠKA / MANJKA U SLJEDEĆE RAZDOBLJE | F29: =F14+F21+F27-F28 -> -25094.99 | G29: =G14+G21+G27-G28 -> 0 | H29: =H14+H21+H27-H28 -> 0 | I29: =I14+I21+I27-I28 -> -1.1641532e-10 | J29: =J14+J21+J27-J28 -> 0 | K29: =K14+K21+K27-K28 -> 0
A31: D) VIŠEGODIŠNJI PLAN URAVNOTEŽENJA
F33: Izvršenje 2024.* | G33: Tekući plan 2025. | H33: Plan za 2026. | I33: Reb br.1 Plana za 2026. | J33: Projekcija plana za 2027. | K33: Projekcija plana za 2028.
A34: PRIJENOS VIŠKA / MANJKA IZ PRETHODNE(IH) GODINE | F34: 0 | G34: =G27 -> -25094.99 | H34: =H27 -> -393800 | I34: =I27 -> -331949.13
A35: VIŠAK / MANJAK IZ PRETHODNE(IH) GODINE KOJI ĆE SE RASPOREDITI / POKRITI | F35: 0 | G35: -25094.99 | H35: -393800 | I35: -331949.13 | J35: 0 | K35: 0
A36: VIŠAK / MANJAK TEKUĆE GODINE | F36: 0 | H36: 0 | I36: 0 | J36: 0 | K36: 0
A37: PRIJENOS VIŠKA / MANJKA U SLJEDEĆE RAZDOBLJE | F37: =F34-F35+F36 -> 0 | G37: =G34-G35+G36 -> 0 | H37: =H34-H35+H36 -> 0 | I37: =I34-I35+I36 -> 0 | J37: =J34-J35+J36 -> 0 | K37: =K34-K35+K36 -> 0
A44: *** Napomena: Redak UKUPAN DONOS VIŠKA/MANJKA IZ PRETHODNE(IH) GODINA služi kao informacija i ne uzima se u obzir kod uravnoteženja proračuna, već se proračun uravnotežuje retkom VIŠAK/MANJAK IZ PRETHODNE(IH) GODINE KOJI ĆE SE POKRITI/RASPOREDITI.

Sheet  Račun prihoda i rashoda po eko
A1: PRIJEDLOG REBALANSA FINANCIJSKOG PLANA OSNOVNE ŠKOLE BARTULA KAŠIĆA ZA 2026. I PROJEKCIJA ZA 2027. I 2028. GODINU
A3: I. OPĆI DIO
A5: A. RAČUN PRIHODA I RASHODA
A7: PRIHODI POSLOVANJA PREMA EKONOMSKOJ KLASIFIKACIJI
A9: Razred | B9: Skupina | C9: Naziv prihoda | D9: Izvršenje 2024. | E9: Tekući plan 2025. | F9: Plan za 2026. | G9: Reb br.1 Plana za 2026. | H9: Projekcija za 2027. | I9: Projekcija za 2028.
C10: PRIHODI UKUPNO | D10: =D11+D18 -> 4204660 | E10: =E11+E18 -> 5143417.3 | F10: =F11+F18 -> 5174103 | G10: =G11+G18 -> 5341628.6 | H10: =H11+H18 -> 4970869.5 | I10: =I11+I18 -> 4930869.5
A11: 6 | C11: Prihodi poslovanja | D11: =SUM(D12:D17) -> 4204660 | E11: =SUM(E12:E17) -> 5120808.9 | F11: =SUM(F12:F17) -> 5157003 | G11: =SUM(G12:G17) -> 5323223.6 | H11: =SUM(H12:H17) -> 4970869.5 | I11: =SUM(I12:I17) -> 4930869.5
B12: 63 | C12: Pomoći iz inozemstva i od subjekata unutar općeg proračuna | D12: 3502894.9 | E12: =1188+12100+119099.07+4073455.23+31827.23+18880.55+78.08+1561.4 -> 4258189.6 | F12: =22950+1705+13100+130050+3750840+36850+277700 -> 4233195 | G12: =165690+3921520.49+304183.62 -> 4391394.1 | H12: =165690+3921520.49 -> 4087210.5 | I12: =165690+3921520.49 -> 4087210.5
B13: 64 | C13: Prihodi od imovine
B14: 65 | C14: Prihodi od upravnih i administrativnih pristojbi, pristojbi po posebnim propisima i naknada | D14: 82950.42 | E14: =91450 -> 91450 | F14: =91450 -> 91450 | G14: =100450 -> 100450 | H14: =100450 -> 100450 | I14: =100450 -> 100450
B15: 66 | C15: Prihodi od prodaje proizvoda i robe te pruženih usluga, prihodi od donacija | D15: 11706.78 | E15: =800+4165+850+500 -> 6315 | F15: =800+4500+1150+200 -> 6650 | G15: =800+4900+350 -> 6050 | H15: =800+4900+350 -> 6050 | I15: =800+4900+350 -> 6050
B16: 67 | C16: Prihodi iz nadležnog proračuna i od HZZO-a temeljem ugovornih obveza | D16: 607107.7 | E16: =572963.44+85000+21017.49+45200+11800+1600+27183.37 -> 764764.3 | F16: =570118+82300+40000+133200 -> 825618 | G16: =629708+149301+46170.51 -> 825179.51 | H16: 777009 | I16: 737009
B17: 68 | C17: Kazne, upravne mjere i ostali prihodi | D17: 0.21 | E17: =90 -> 90 | F17: =90 -> 90 | G17: =150 -> 150 | H17: =150 -> 150 | I17: =150 -> 150
B18: 92 | C18: Višak prihoda poslovanja | E18: 22608.41 | F18: 17100 | G18: 18405
A20: RASHODI POSLOVANJA PREMA EKONOMSKOJ KLASIFIKACIJI
A22: Razred | B22: Skupina | C22: Naziv rashoda | D22: Izvršenje 2024. | E22: Tekući plan 2025. | F22: Plan za 2026. | G22: Reb br.1 Plana za 2026. | H22: Projekcija za 2027. | I22: Projekcija za 2028.
C23: RASHODI UKUPNO | D23: =D24+D30 -> 4243900.2 | E23: =E24+E30 -> 5095713.9 | F23: =F24+F30 -> 4763203 | G23: =G24+G30 -> 4991274.5 | H23: =H24+H30 -> 4970869.5 | I23: =I24+I30 -> 4930869.5
A24: 3 | C24: Rashodi poslovanja | D24: =SUM(D25:D29) -> 4108178 | E24: =SUM(E25:E29) -> 4900023.2 | F24: =SUM(F25:F29) -> 4580403 | G24: =SUM(G25:G29) -> 4786573.5 | H24: =SUM(H25:H29) -> 4773568.5 | I24: =SUM(I25:I29) -> 4773568.5
B25: 31 | C25: Rashodi za zaposlene | D25: 3421659.2 | E25: ='POSEBNI DIO'!F38+'POSEBNI DIO'!F41+'POSEBNI DIO'!F44+'POSEBNI DIO'!F47+'POSEBNI DIO'!F51+'POSEBNI DIO'!F55+'POSEBNI DIO'!F64+'POSEBNI DIO'!F135+'POSEBNI DIO'!F159+'POSEBNI DIO'!F164+'POSEBNI DIO'!F168+'POSEBNI DIO'!F172 -> 4094712.7 | F25: ='POSEBNI DIO'!G38+'POSEBNI DIO'!G41+'POSEBNI DIO'!G44+'POSEBNI DIO'!G47+'POSEBNI DIO'!G51+'POSEBNI DIO'!G55+'POSEBNI DIO'!G64+'POSEBNI DIO'!G135+'POSEBNI DIO'!G159+'POSEBNI DIO'!G164+'POSEBNI DIO'!G168+'POSEBNI DIO'!G172 -> 3769500 | G25: ='POSEBNI DIO'!H38+'POSEBNI DIO'!H41+'POSEBNI DIO'!H44+'POSEBNI DIO'!H47+'POSEBNI DIO'!H51+'POSEBNI DIO'!H55+'POSEBNI DIO'!H64+'POSEBNI DIO'!H135+'POSEBNI DIO'!H159+'POSEBNI DIO'!H164+'POSEBNI DIO'!H168+'POSEBNI DIO'!H172 -> 3939100 | H25: ='POSEBNI DIO'!I38+'POSEBNI DIO'!I41+'POSEBNI DIO'!I44+'POSEBNI DIO'!I47+'POSEBNI DIO'!I51+'POSEBNI DIO'!I55+'POSEBNI DIO'!I64+'POSEBNI DIO'!I135+'POSEBNI DIO'!I159+'POSEBNI DIO'!I164+'POSEBNI DIO'!I168+'POSEBNI DIO'!I172 -> 3939100 | I25: ='POSEBNI DIO'!J38+'POSEBNI DIO'!J41+'POSEBNI DIO'!J44+'POSEBNI DIO'!J47+'POSEBNI DIO'!J51+'POSEBNI DIO'!J55+'POSEBNI DIO'!J64+'POSEBNI DIO'!J135+'POSEBNI DIO'!J159+'POSEBNI DIO'!J164+'POSEBNI DIO'!J168+'POSEBNI DIO'!J172 -> 3939100
B26: 32 | C26: Materijalni rashodi | D26: 564948.07 | E26: ='POSEBNI DIO'!F10+'POSEBNI DIO'!F26+'POSEBNI DIO'!F48+'POSEBNI DIO'!F52+'POSEBNI DIO'!F58+'POSEBNI DIO'!F68+'POSEBNI DIO'!F71+'POSEBNI DIO'!F75+'POSEBNI DIO'!F78+'POSEBNI DIO'!F80+'POSEBNI DIO'!F82+'POSEBNI DIO'!F85+'POSEBNI DIO'!F90+'POSEBNI DIO'!F93+'POSEBNI DIO'!F95+'POSEBNI DIO'!F130+'POSEBNI DIO'!F136+'POSEBNI DIO'!F144+'POSEBNI DIO'!F149+'POSEBNI DIO'!F152+'POSEBNI DIO'!F155+'POSEBNI DIO'!F160+'POSEBNI DIO'!F165+'POSEBNI DIO'!F169+'POSEBNI DIO'!F173 -> 651992.04 | F26: ='POSEBNI DIO'!G10+'POSEBNI DIO'!G26+'POSEBNI DIO'!G48+'POSEBNI DIO'!G52+'POSEBNI DIO'!G58+'POSEBNI DIO'!G68+'POSEBNI DIO'!G71+'POSEBNI DIO'!G75+'POSEBNI DIO'!G78+'POSEBNI DIO'!G80+'POSEBNI DIO'!G82+'POSEBNI DIO'!G85+'POSEBNI DIO'!G90+'POSEBNI DIO'!G93+'POSEBNI DIO'!G95+'POSEBNI DIO'!G130+'POSEBNI DIO'!G136+'POSEBNI DIO'!G144+'POSEBNI DIO'!G149+'POSEBNI DIO'!G152+'POSEBNI DIO'!G155+'POSEBNI DIO'!G160+'POSEBNI DIO'!G165+'POSEBNI DIO'!G169+'POSEBNI DIO'!G173 -> 662593 | G26: ='POSEBNI DIO'!H10+'POSEBNI DIO'!H26+'POSEBNI DIO'!H48+'POSEBNI DIO'!H52+'POSEBNI DIO'!H58+'POSEBNI DIO'!H68+'POSEBNI DIO'!H71+'POSEBNI DIO'!H75+'POSEBNI DIO'!H78+'POSEBNI DIO'!H80+'POSEBNI DIO'!H82+'POSEBNI DIO'!H85+'POSEBNI DIO'!H90+'POSEBNI DIO'!H93+'POSEBNI DIO'!H95+'POSEBNI DIO'!H130+'POSEBNI DIO'!H136+'POSEBNI DIO'!H144+'POSEBNI DIO'!H149+'POSEBNI DIO'!H152+'POSEBNI DIO'!H155+'POSEBNI DIO'!H160+'POSEBNI DIO'!H165+'POSEBNI DIO'!H169+'POSEBNI DIO'!H173 -> 699404.49 | H26: ='POSEBNI DIO'!I10+'POSEBNI DIO'!I26+'POSEBNI DIO'!I48+'POSEBNI DIO'!I52+'POSEBNI DIO'!I58+'POSEBNI DIO'!I68+'POSEBNI DIO'!I71+'POSEBNI DIO'!I75+'POSEBNI DIO'!I78+'POSEBNI DIO'!I80+'POSEBNI DIO'!I82+'POSEBNI DIO'!I85+'POSEBNI DIO'!I90+'POSEBNI DIO'!I93+'POSEBNI DIO'!I95+'POSEBNI DIO'!I130+'POSEBNI DIO'!I136+'POSEBNI DIO'!I144+'POSEBNI DIO'!I149+'POSEBNI DIO'!I152+'POSEBNI DIO'!I155+'POSEBNI DIO'!I160+'POSEBNI DIO'!I165+'POSEBNI DIO'!I169+'POSEBNI DIO'!I173 -> 686399.49 | I26: ='POSEBNI DIO'!J10+'POSEBNI DIO'!J26+'POSEBNI DIO'!J48+'POSEBNI DIO'!J52+'POSEBNI DIO'!J58+'POSEBNI DIO'!J68+'POSEBNI DIO'!J71+'POSEBNI DIO'!J75+'POSEBNI DIO'!J78+'POSEBNI DIO'!J80+'POSEBNI DIO'!J82+'POSEBNI DIO'!J85+'POSEBNI DIO'!J90+'POSEBNI DIO'!J93+'POSEBNI DIO'!J95+'POSEBNI DIO'!J130+'POSEBNI DIO'!J136+'POSEBNI DIO'!J144+'POSEBNI DIO'!J149+'POSEBNI DIO'!J152+'POSEBNI DIO'!J155+'POSEBNI DIO'!J160+'POSEBNI DIO'!J165+'POSEBNI DIO'!J169+'POSEBNI DIO'!J173 -> 686399.49
B27: 34 | C27: Financijski rashodi | D27: 44.48 | E27: ='POSEBNI DIO'!F14+'POSEBNI DIO'!F98+'POSEBNI DIO'!F100+'POSEBNI DIO'!F102+'POSEBNI DIO'!F104 -> 100 | F27: ='POSEBNI DIO'!G14+'POSEBNI DIO'!G98+'POSEBNI DIO'!G100+'POSEBNI DIO'!G102+'POSEBNI DIO'!G104 -> 60 | G27: ='POSEBNI DIO'!H14+'POSEBNI DIO'!H98+'POSEBNI DIO'!H100+'POSEBNI DIO'!H102+'POSEBNI DIO'!H104 -> 69 | H27: ='POSEBNI DIO'!I14+'POSEBNI DIO'!I98+'POSEBNI DIO'!I100+'POSEBNI DIO'!I102+'POSEBNI DIO'!I104 -> 69 | I27: ='POSEBNI DIO'!J14+'POSEBNI DIO'!J98+'POSEBNI DIO'!J100+'POSEBNI DIO'!J102+'POSEBNI DIO'!J104 -> 69
B28: 37 | C28: Naknade građanima i kućanstvima na temelju osiguranja i druge naknade | D28: 119102.37 | E28: ='POSEBNI DIO'!F69+'POSEBNI DIO'!F72+'POSEBNI DIO'!F76+'POSEBNI DIO'!F86+'POSEBNI DIO'!F91+'POSEBNI DIO'!F131+'POSEBNI DIO'!F140 -> 151000 | F28: ='POSEBNI DIO'!G69+'POSEBNI DIO'!G72+'POSEBNI DIO'!G76+'POSEBNI DIO'!G86+'POSEBNI DIO'!G91+'POSEBNI DIO'!G131+'POSEBNI DIO'!G140 -> 145950 | G28: ='POSEBNI DIO'!H69+'POSEBNI DIO'!H72+'POSEBNI DIO'!H76+'POSEBNI DIO'!H86+'POSEBNI DIO'!H91+'POSEBNI DIO'!H131+'POSEBNI DIO'!H140 -> 145700 | H28: ='POSEBNI DIO'!I69+'POSEBNI DIO'!I72+'POSEBNI DIO'!I76+'POSEBNI DIO'!I86+'POSEBNI DIO'!I91+'POSEBNI DIO'!I131+'POSEBNI DIO'!I140 -> 145700 | I28: ='POSEBNI DIO'!J69+'POSEBNI DIO'!J72+'POSEBNI DIO'!J76+'POSEBNI DIO'!J86+'POSEBNI DIO'!J91+'POSEBNI DIO'!J131+'POSEBNI DIO'!J140 -> 145700
B29: 38 | C29: Ostale tekuće donacije u naravi | D29: 2423.94 | E29: ='POSEBNI DIO'!F87 -> 2218.5 | F29: ='POSEBNI DIO'!G87 -> 2300 | G29: ='POSEBNI DIO'!H87 -> 2300 | H29: ='POSEBNI DIO'!I87 -> 2300 | I29: ='POSEBNI DIO'!J87 -> 2300
A30: 4 | C30: Rashodi za nabavu nefinancijske imovine | D30: =D31+D32 -> 135722.18 | E30: =E31+E32 -> 195690.67 | F30: =F31+F32 -> 182800 | G30: =G31+G32 -> 204701 | H30: =H31+H32 -> 197301 | I30: =I31+I32 -> 157301
B31: 42 | C31: Rashodi za nabavu proizvedene dugotrajne imovine | D31: 76869.68 | E31: ='POSEBNI DIO'!F18+'POSEBNI DIO'!F30+'POSEBNI DIO'!F107+'POSEBNI DIO'!F109+'POSEBNI DIO'!F111+'POSEBNI DIO'!F113+'POSEBNI DIO'!F115+'POSEBNI DIO'!F117+'POSEBNI DIO'!F119+'POSEBNI DIO'!F121+'POSEBNI DIO'!F123+'POSEBNI DIO'!F125+'POSEBNI DIO'!F146 -> 70490.67 | F31: ='POSEBNI DIO'!G18+'POSEBNI DIO'!G30+'POSEBNI DIO'!G107+'POSEBNI DIO'!G109+'POSEBNI DIO'!G111+'POSEBNI DIO'!G113+'POSEBNI DIO'!G115+'POSEBNI DIO'!G117+'POSEBNI DIO'!G119+'POSEBNI DIO'!G121+'POSEBNI DIO'!G123+'POSEBNI DIO'!G125+'POSEBNI DIO'!G146 -> 102800 | G31: ='POSEBNI DIO'!H18+'POSEBNI DIO'!H30+'POSEBNI DIO'!H107+'POSEBNI DIO'!H109+'POSEBNI DIO'!H111+'POSEBNI DIO'!H113+'POSEBNI DIO'!H115+'POSEBNI DIO'!H117+'POSEBNI DIO'!H119+'POSEBNI DIO'!H121+'POSEBNI DIO'!H123+'POSEBNI DIO'!H125+'POSEBNI DIO'!H146 -> 131480 | H31: ='POSEBNI DIO'!I18+'POSEBNI DIO'!I30+'POSEBNI DIO'!I107+'POSEBNI DIO'!I109+'POSEBNI DIO'!I111+'POSEBNI DIO'!I113+'POSEBNI DIO'!I115+'POSEBNI DIO'!I117+'POSEBNI DIO'!I119+'POSEBNI DIO'!I121+'POSEBNI DIO'!I123+'POSEBNI DIO'!I125+'POSEBNI DIO'!I146 -> 124080 | I31: ='POSEBNI DIO'!J18+'POSEBNI DIO'!J30+'POSEBNI DIO'!J107+'POSEBNI DIO'!J109+'POSEBNI DIO'!J111+'POSEBNI DIO'!J113+'POSEBNI DIO'!J115+'POSEBNI DIO'!J117+'POSEBNI DIO'!J119+'POSEBNI DIO'!J121+'POSEBNI DIO'!J123+'POSEBNI DIO'!J125+'POSEBNI DIO'!J146 -> 84080
B32: 45 | C32: Rashodi za dodatna ulaganja na nefinancijskoj imovini | D32: 58852.5 | E32: ='POSEBNI DIO'!F22+'POSEBNI DIO'!F34 -> 125200 | F32: ='POSEBNI DIO'!G22+'POSEBNI DIO'!G34 -> 80000 | G32: ='POSEBNI DIO'!H22+'POSEBNI DIO'!H34 -> 73221 | H32: ='POSEBNI DIO'!I22+'POSEBNI DIO'!I34 -> 73221 | I32: ='POSEBNI DIO'!J22+'POSEBNI DIO'!J34 -> 73221

Sheet Prihodi i rashodi po izvorima
A1: PRIJEDLOG REBALANSA FINANCIJSKOG PLANA OSNOVNE ŠKOLE BARTULA KAŠIĆA ZA 2026. I PROJEKCIJA ZA 2027. I 2028. GODINU
A3: I. OPĆI DIO
A5: A. RAČUN PRIHODA I RASHODA
A7: PRIHODI POSLOVANJA PREMA IZVORIMA FINANCIRANJA
A9: Brojčana oznaka i naziv | D9: Izvršenje 2024. | E9: Tekući plan 2025. | F9: Plan za 2026. | G9: Reb br.1 Plana za 2026. | H9: Projekcija za 2027. | I9: Projekcija za 2028.
A10: PRIHODI UKUPNO | D10: =SUM(D11:D18) -> 4204660 | E10: =SUM(E11:E18) -> 5120808.9 | F10: =SUM(F11:F18) -> 5157003 | G10: =SUM(G11:G18) -> 5323223.6 | H10: =SUM(H11:H18) -> 4970869.5 | I10: =SUM(I11:I18) -> 4930869.5
A11: 11 Opći prihodi i primici | D11: 607107.7 | E11: =572963.44+85000+27183.37 -> 685146.81 | F11: =652418+133200 -> 785618 | G11: =779009+46170.51 -> 825179.51 | H11: 777009 | I11: 737009
A12: 31 Vlastiti prihodi | D12: 4923.24 | E12: =800+4165+90 -> 5055 | F12: 5390 | G12: 5850 | H12: 5850 | I12: 5850
A13: 41 Prihodi za posebne namjene/ 43 Ostali prihodi za posebne namjene | D13: 82950.42 | E13: =91450 -> 91450 | F13: 91450 | G13: 100450 | H13: 100450 | I13: 100450
A14: 51 Tekuće pomoći/ 5012 Pom iz drž pror kroz nac sufin Eu projekata | E14: =21017.49+45200+11800+1600+78.08 -> 79695.57 | F14: 64655
A15: 53 HZZ
A16: 5402 EU/ 56 Fondovi EU | D16: 79807 | E16: =1188+12100+119099.07+1561.4 -> 133948.47 | F16: 143150 | G16: 165690 | H16: 165690 | I16: 165690
A17: 57 Pomoći/ 5011 Pomoći iz drž pror kroz opće prihode i primitke | D17: 3423087.9 | E17: =4073455.23+31827.23+18880.55 -> 4124163 | F17: =3787690+277700 -> 4065390 | G17: =3921520.49+304183.62 -> 4225704.1 | H17: 3921520.5 | I17: 3921520.5
A18: 6103 Donacije/ 61 Donacije | D18: 6783.75 | E18: =850+500 -> 1350 | F18: 1350 | G18: 350 | H18: 350 | I18: 350
A21: RASHODI POSLOVANJA PREMA IZVORIMA FINANCIRANJA
A23: Brojčana oznaka i naziv | D23: Izvršenje 2024. | E23: Tekući plan 2025. | F23: Plan za 2026. | G23: Reb br.1 Plana za 2026. | H23: Projekcija za 2027. | I23: Projekcija za 2028.
A24: RASHODI UKUPNO | D24: =SUM(D25:D38) -> 4243900.2 | E24: =SUM(E25:E38) -> 5095713.9 | F24: =SUM(F25:F38) -> 4763203 | G24: =SUM(G25:G38) -> 4991274.5 | H24: =SUM(H25:H38) -> 4970869.5 | I24: =SUM(I25:I38) -> 4930869.5
A25: 11 Opći prihodi i primici | D25: 620996.79 | E25: ='POSEBNI DIO'!F8+'POSEBNI DIO'!F12+'POSEBNI DIO'!F24+'POSEBNI DIO'!F28+'POSEBNI DIO'!F32+'POSEBNI DIO'!F128+'POSEBNI DIO'!F133+'POSEBNI DIO'!F138+'POSEBNI DIO'!F142+'POSEBNI DIO'!F157+'POSEBNI DIO'!F162 -> 657963.44 | F25: ='POSEBNI DIO'!G8+'POSEBNI DIO'!G12+'POSEBNI DIO'!G16+'POSEBNI DIO'!G24+'POSEBNI DIO'!G28+'POSEBNI DIO'!G32+'POSEBNI DIO'!G128+'POSEBNI DIO'!G133+'POSEBNI DIO'!G138+'POSEBNI DIO'!G142+'POSEBNI DIO'!G157+'POSEBNI DIO'!G162 -> 652418 | G25: ='POSEBNI DIO'!H8+'POSEBNI DIO'!H12+'POSEBNI DIO'!H16+'POSEBNI DIO'!H20+'POSEBNI DIO'!H24+'POSEBNI DIO'!H28+'POSEBNI DIO'!H32+'POSEBNI DIO'!H128+'POSEBNI DIO'!H133+'POSEBNI DIO'!H138+'POSEBNI DIO'!H142+'POSEBNI DIO'!H157+'POSEBNI DIO'!H162 -> 779009 | H25: ='POSEBNI DIO'!I8+'POSEBNI DIO'!I12+'POSEBNI DIO'!I16+'POSEBNI DIO'!I20+'POSEBNI DIO'!I24+'POSEBNI DIO'!I28+'POSEBNI DIO'!I32+'POSEBNI DIO'!I128+'POSEBNI DIO'!I133+'POSEBNI DIO'!I138+'POSEBNI DIO'!I142+'POSEBNI DIO'!I157+'POSEBNI DIO'!I162 -> 777009 | I25: ='POSEBNI DIO'!J8+'POSEBNI DIO'!J12+'POSEBNI DIO'!J16+'POSEBNI DIO'!J20+'POSEBNI DIO'!J24+'POSEBNI DIO'!J28+'POSEBNI DIO'!J32+'POSEBNI DIO'!J128+'POSEBNI DIO'!J133+'POSEBNI DIO'!J138+'POSEBNI DIO'!J142+'POSEBNI DIO'!J157+'POSEBNI DIO'!J162 -> 737009
A26: 31 Vlastiti prihodi | D26: 751.25 | E26: 5055 | F26: ='POSEBNI DIO'!G66+'POSEBNI DIO'!G97+'POSEBNI DIO'!G106 -> 5390 | G26: ='POSEBNI DIO'!H66+'POSEBNI DIO'!H97+'POSEBNI DIO'!H106 -> 5850 | H26: ='POSEBNI DIO'!I66+'POSEBNI DIO'!I97+'POSEBNI DIO'!I106 -> 5850 | I26: ='POSEBNI DIO'!J66+'POSEBNI DIO'!J97+'POSEBNI DIO'!J106 -> 5850
A27: 9231 Vlastiti prihodi - višak | D27: 3109.19 | E27: 4171.99 | F27: ='POSEBNI DIO'!G39+'POSEBNI DIO'!G70+'POSEBNI DIO'!G99+'POSEBNI DIO'!G108 -> 3800 | G27: ='POSEBNI DIO'!H39+'POSEBNI DIO'!H70+'POSEBNI DIO'!H99+'POSEBNI DIO'!H108 -> 5371.08 | H27: ='POSEBNI DIO'!I39+'POSEBNI DIO'!I70+'POSEBNI DIO'!I99+'POSEBNI DIO'!I108 -> 0 | I27: ='POSEBNI DIO'!J39+'POSEBNI DIO'!J70+'POSEBNI DIO'!J99+'POSEBNI DIO'!J108 -> 0
A28: 41 Prihodi za posebne namjene/ 43 Ostali prihodi za posebne namjene | D28: 71546.11 | E28: 91450 | F28: ='POSEBNI DIO'!G42+'POSEBNI DIO'!G73+'POSEBNI DIO'!G101+'POSEBNI DIO'!G110 -> 91450 | G28: ='POSEBNI DIO'!H42+'POSEBNI DIO'!H73+'POSEBNI DIO'!H101+'POSEBNI DIO'!H110 -> 100450 | H28: ='POSEBNI DIO'!I42+'POSEBNI DIO'!I73+'POSEBNI DIO'!I101+'POSEBNI DIO'!I110 -> 100450 | I28: ='POSEBNI DIO'!J42+'POSEBNI DIO'!J73+'POSEBNI DIO'!J101+'POSEBNI DIO'!J110 -> 100450
A29: 9241 Prihodi za posebne namjene - višak | D29: 5805.83 | E29: 11404.31 | F29: ='POSEBNI DIO'!G77+'POSEBNI DIO'!G103+'POSEBNI DIO'!G112 -> 10000 | G29: ='POSEBNI DIO'!H77+'POSEBNI DIO'!H103+'POSEBNI DIO'!H112 -> 8461.44 | H29: ='POSEBNI DIO'!I77+'POSEBNI DIO'!I103+'POSEBNI DIO'!I112 -> 0 | I29: ='POSEBNI DIO'!J77+'POSEBNI DIO'!J103+'POSEBNI DIO'!J112 -> 0
A30: 51 Tekuće pomoći/ 5012 Pom iz drž pror kroz nac sufin Eu projekata | E30: 79617.49 | F30: ='POSEBNI DIO'!G20+'POSEBNI DIO'!G147+'POSEBNI DIO'!G166 -> 64655
A31: 53 HZZ
A32: 92530 HZZ PRIPRAVNIK - višak | D32: 17353.7
A33: 5402 EU/ 56 Fondovi EU | D33: 74864.98 | E33: 132387.07 | F33: ='POSEBNI DIO'!G36+'POSEBNI DIO'!G79+'POSEBNI DIO'!G118+'POSEBNI DIO'!G153+'POSEBNI DIO'!G170 -> 143150 | G33: ='POSEBNI DIO'!H36+'POSEBNI DIO'!H79+'POSEBNI DIO'!H118+'POSEBNI DIO'!H153+'POSEBNI DIO'!H170 -> 165690 | H33: ='POSEBNI DIO'!I36+'POSEBNI DIO'!I79+'POSEBNI DIO'!I118+'POSEBNI DIO'!I153+'POSEBNI DIO'!I170 -> 165690 | I33: ='POSEBNI DIO'!J36+'POSEBNI DIO'!J79+'POSEBNI DIO'!J118+'POSEBNI DIO'!J153+'POSEBNI DIO'!J170 -> 165690
A34: 925401 Projekti - višak | D34: 4718.59 | E34: 1134.77 | F34: ='POSEBNI DIO'!G81+'POSEBNI DIO'!G120 -> 0 | G34: ='POSEBNI DIO'!H81+'POSEBNI DIO'!H120 -> 0 | H34: ='POSEBNI DIO'!I81+'POSEBNI DIO'!I120 -> 0 | I34: ='POSEBNI DIO'!J81+'POSEBNI DIO'!J120 -> 0
A35: 57 Pomoći/ 5011 Pomoći iz drž pror kroz opće prihode i primitke | D35: 3436742 | E35: 4105282.5 | F35: ='POSEBNI DIO'!G53+'POSEBNI DIO'!G83+'POSEBNI DIO'!G122+'POSEBNI DIO'!G150 -> 3787690 | G35: ='POSEBNI DIO'!H53+'POSEBNI DIO'!H83+'POSEBNI DIO'!H122+'POSEBNI DIO'!H147+'POSEBNI DIO'!H166 -> 3921520.5 | H35: ='POSEBNI DIO'!I53+'POSEBNI DIO'!I83+'POSEBNI DIO'!I122+'POSEBNI DIO'!I147+'POSEBNI DIO'!I166 -> 3921520.5 | I35: ='POSEBNI DIO'!J53+'POSEBNI DIO'!J83+'POSEBNI DIO'!J122+'POSEBNI DIO'!J147+'POSEBNI DIO'!J166 -> 3921520.5
A36: 9257 Pomoći - višak | D36: 1587.95 | E36: 5226.5 | F36: ='POSEBNI DIO'!G88+'POSEBNI DIO'!G124 -> 3300 | G36: ='POSEBNI DIO'!H88+'POSEBNI DIO'!H124 -> 4572.48 | H36: ='POSEBNI DIO'!I88+'POSEBNI DIO'!I124 -> 0 | I36: ='POSEBNI DIO'!J88+'POSEBNI DIO'!J124 -> 0
A37: 6103 Donacije/ 61 Donacije | D37: 6112.91 | E37: 1350 | F37: ='POSEBNI DIO'!G62+'POSEBNI DIO'!G92+'POSEBNI DIO'!G114 -> 1350 | G37: ='POSEBNI DIO'!H62+'POSEBNI DIO'!H92+'POSEBNI DIO'!H114 -> 350 | H37: ='POSEBNI DIO'!I62+'POSEBNI DIO'!I92+'POSEBNI DIO'!I114 -> 350 | I37: ='POSEBNI DIO'!J62+'POSEBNI DIO'!J92+'POSEBNI DIO'!J114 -> 350
A38: 926103 Donacije - višak | D38: 310.93 | E38: 670.84 | F38: ='POSEBNI DIO'!G94+'POSEBNI DIO'!G116 -> 0 | G38: ='POSEBNI DIO'!H94+'POSEBNI DIO'!H116 -> 0 | H38: ='POSEBNI DIO'!I94+'POSEBNI DIO'!I116 -> 0 | I38: ='POSEBNI DIO'!J94+'POSEBNI DIO'!J116 -> 0
A43: MANJAK POKRIVEN TEKUĆIM PRIHODIMA
A45: Razred | B45: Skupina | C45: Naziv rashoda | D45: Izvršenje 2024. | E45: Tekući plan 2025. | F45: Plan za 2026. | G45: Reb br.1 Plana za 2026. | H45: Projekcija za 2027. | I45: Projekcija za 2028.
A46: 9 | C46: Vlastiti izvori
B47: 92 | C47: Manjak prihoda poslovanja | D47: =SUM(D48:D54) -> 18741.01 | E47: =SUM(E48:E54) -> 47703.4 | F47: =SUM(F48:F54) -> 410900 | G47: =SUM(G48:G54) -> 350354.13 | H47: =SUM(H48:H54) -> 0 | I47: =SUM(I48:I54) -> 0
C48: 11 Opći prihodi i primici | D48: 13294.28 | E48: 27183.37 | F48: 133200 | G48: 46170.51
C49: 6103 Donacije | E49: 0
C50: 51 Pomoći /5012 | E50: 78.08
C51: 5402 EU Projekti/56 | D51: 5446.73 | E51: 0
C52: 57 Pomoći/5011 | E52: 18880.55 | F52: 277700 | G52: 304183.62
...

Sheet Rashodi prema funkcijskoj kl
A1: PRIJEDLOG REBALANSA FINANCIJSKOG PLANA OSNOVNE ŠKOLE BARTULA KAŠIĆA ZA 2026. I PROJEKCIJA ZA 2027. I 2028. GODINU
A3: I. OPĆI DIO
A5: A. RAČUN PRIHODA I RASHODA
A7: RASHODI PREMA FUNKCIJSKOJ KLASIFIKACIJI
A9: BROJČANA OZNAKA I NAZIV | B9: Izvršenje 2024. | C9: Tekući plan 2025. | D9: Plan za 2026. | E9: Reb br.1 Plana za 2026. | F9: Projekcija za 2027. | G9: Projekcija za 2028.
A10: UKUPNI RASHODI | B10: =B11 -> 4243900.2 | C10: =C11 -> 5095713.9 | D10: =SAŽETAK!H11 -> 4763203 | E10: =SAŽETAK!I11 -> 4991274.5 | F10: =SAŽETAK!J11 -> 4970869.5 | G10: =SAŽETAK!K11 -> 4930869.5
A11: 09 Obrazovanje | B11: =B12+B13 -> 4243900.2 | C11: =C12+C13 -> 5095713.9 | D11: =D12+D13 -> 4763203 | E11: =E12+E13 -> 4991274.5 | F11: =F12+F13 -> 4970869.5 | G11: =G12+G13 -> 4930869.5
A12: 0912 Osnovno obrazovanje | B12: 3956944.1 | C12: =5095713.87-C13 -> 4789513.9 | D12: =D10-D13 -> 4459203 | E12: =E10-E13 -> 4686174.5 | F12: =F10-F13 -> 4665769.5 | G12: =G10-G13 -> 4625769.5
A13: 096 Dodatne usluge u obrazovanju | B13: 286956.13 | C13: =16200+45000+245000 -> 306200 | D13: =17000+242000+45000 -> 304000 | E13: 305100 | F13: 305100 | G13: 305100

Sheet POSEBNI DIO
A1: PRIJEDLOG REBALANSA FINANCIJSKOG PLANA OSNOVNE ŠKOLE BARTULA KAŠIĆA ZA 2026. I PROJEKCIJA ZA 2027. I 2028. GODINU
A3: II. POSEBNI DIO
C4: EUR | E4: =E6+E126 -> 4243900.2 | F4: =F6+F126 -> 5095713.9 | G4: =G6+G126 -> 4763203 | H4: =H6+H126 -> 4991274.5 | I4: =I6+I126 -> 4970869.5 | J4: =J6+J126 -> 4930869.5
A5: Šifra | D5: Naziv | E5: Izvršenje 2024. | F5: Tekući plan 2025. | G5: Plan za 2026. | H5: Reb br.1 plana za 2026. | I5: Projekcija za 2027. | J5: Projekcija za 2028.
A6: PROGRAM 1012 | D6: Osnovnoškolsko obrazovanje | E6: =E7+E11+E15+E19+E35+E65+E96+E105+E23+E31 -> 3813020.6 | F6: =F7+F11+F15+F19+F35+F65+F96+F105+F23+F31+F27 -> 4570813.9 | G6: =G7+G11+G15+G19+G35+G65+G96+G105+G23+G31+G27 -> 4248703 | H6: =H7+H11+H15+H19+H35+H65+H96+H105+H23+H31+H27 -> 4400124.5 | I6: =I7+I11+I15+I19+I35+I65+I96+I105+I23+I31+I27 -> 4379719.5 | J6: =J7+J11+J15+J19+J35+J65+J96+J105+J23+J31+J27 -> 4339719.5
A7: Aktivnost 1012-01 | D7: Materijalni rashodi škola - STANDARD | E7: =E9 -> 170562.81 | F7: =F9 -> 131055 | G7: =G9 -> 124903 | H7: =H9 -> 124039 | I7: =I9 -> 124039 | J7: =J9 -> 124039
A8: Izvor financiranja 11 | D8: Opći prihodi i primici | E8: =E9 -> 170562.81 | F8: =F9 -> 131055 | G8: =G9 -> 124903 | H8: =H9 -> 124039 | I8: =I9 -> 124039 | J8: =J9 -> 124039
A9: 3 | D9: Rashodi poslovanja | E9: =E10 -> 170562.81 | F9: =F10 -> 131055 | G9: =G10 -> 124903 | H9: =H10 -> 124039 | I9: =I10 -> 124039 | J9: =J10 -> 124039
A10: 32 | D10: Materijalni rashodi | E10: 170562.81 | F10: =8080+700+20500+30000+1000+100+375+4400+19700+500+15000+10000+2300+5300+8500+3400+100+100+1000 -> 131055 | G10: =8000+600+20000+25600+1000+100+375+4600+20600+500+15000+8000+2228+5200+8500+3400+100+100+1000 -> 124903 | H10: =124039 -> 124039 | I10: =124039 -> 124039 | J10: =124039 -> 124039
A11: Aktivnost 1012-02 | D11: Financijski rashodi škola - STANDARD | E11: =E13 -> 41.06 | F11: =F13 -> 45 | G11: =G13 -> 20 | H11: =H13 -> 19 | I11: =I13 -> 19 | J11: =J13 -> 19
A12: Izvor financiranja 11 | D12: Opći prihodi i primici | E12: =E13 -> 41.06 | F12: =F13 -> 45 | G12: =G13 -> 20 | H12: =H13 -> 19 | I12: =I13 -> 19 | J12: =J13 -> 19
A13: 3 | D13: Rashodi poslovanja | E13: =E14 -> 41.06 | F13: =F14 -> 45 | G13: =G14 -> 20 | H13: =H14 -> 19 | I13: =I14 -> 19 | J13: =J14 -> 19
A14: 34 | D14: Financijski rashodi škola | E14: 41.06 | F14: =45 -> 45 | G14: 20 | H14: =19 -> 19 | I14: =19 -> 19 | J14: =19 -> 19
A15: Kapitalni projekt 1012-03 | D15: Opremanje škola- STANDARD | E15: =E17 -> 40794.75 | F15: =F17 -> 11800 | G15: =G17 -> 27300 | H15: =H17 -> 34080 | I15: =I17 -> 34080 | J15: =J17 -> 34080
A16: Izvor financiranja 11 | D16: Tekuće pomoći | E16: =E17 -> 40794.75 | F16: =F17 -> 11800 | G16: =G17 -> 27300 | H16: =H17 -> 34080 | I16: =I17 -> 34080 | J16: =J17 -> 34080
A17: 4 | D17: Rashodi za nabavu nefinancijske imovine | E17: =E18 -> 40794.75 | F17: =F18 -> 11800 | G17: =G18 -> 27300 | H17: =H18 -> 34080 | I17: =I18 -> 34080 | J17: =J18 -> 34080
A18: 42 | D18: Rashodi za nabavu proizvedene dugotrajne imovine | E18: 40794.75 | F18: =500+1300+10000 -> 11800 | G18: =15000+5300+6500+500 -> 27300 | H18: =34080 -> 34080 | I18: =34080 -> 34080 | J18: =34080 -> 34080
A19: Kapitalni projekt 1012-04 | D19: Rashodi za dodatna ulaganja na školama- STANDARD | E19: =E21 -> 58852.5 | F19: =F21 -> 45200 | G19: =G21 -> 40000 | H19: =H21 -> 29190 | I19: =I21 -> 29190 | J19: =J21 -> 29190
A20: Izvor financiranja 11 | D20: Tekuće pomoći | E20: =E21 -> 58852.5 | F20: =F21 -> 45200 | G20: =G21 -> 40000 | H20: =H21 -> 29190 | I20: =I21 -> 29190 | J20: =J21 -> 29190
A21: 4 | D21: Rashodi za nabavu nefinancijske imovine | E21: =E22 -> 58852.5 | F21: =F22 -> 45200 | G21: =G22 -> 40000 | H21: =H22 -> 29190 | I21: =I22 -> 29190 | J21: =J22 -> 29190
A22: 45 | D22: Rashodi za dodatna ulaganja na nefinancijskoj imovini | E22: 58852.5 | F22: =45200 -> 45200 | G22: 40000 | H22: =29190 -> 29190 | I22: =29190 -> 29190 | J22: =29190 -> 29190
A23: Aktivnost 1012-05 | D23: Rashodi za zaposlene i materijalni rashodi škola - IZVANSTANDARD | E23: =E25 -> 0 | F23: =F25 -> 70780 | G23: =G25 -> 98500 | H23: =H25 -> 110200 | I23: =I25 -> 110200 | J23: =J25 -> 110200
A24: Izvor financiranja 11 | D24: Opći prihodi i primici | E24: =E25 -> 0 | F24: =F25 -> 70780 | G24: =G25 -> 98500 | H24: =H25 -> 110200 | I24: =I25 -> 110200 | J24: =J25 -> 110200
A25: 3 | D25: Rashodi poslovanja | E25: =E26 -> 0 | F25: =F26 -> 70780 | G25: =G26 -> 98500 | H25: =H26 -> 110200 | I25: =I26 -> 110200 | J25: =J26 -> 110200
A26: 32 | D26: Materijalni rashodi | F26: =45000+2300+4080+5000+400+14000 -> 70780 | G26: =64400+15000+2500+400+16200 -> 98500 | H26: =110200 -> 110200 | I26: =110200 -> 110200 | J26: =110200 -> 110200
A27: Kapitalni projekt 1012-07 | D27: Opremanje škola- IZVANSTANDARD | E27: =E29 -> 0 | F27: =F29 -> 5000 | G27: =G29 -> 15000 | H27: =H29 -> 42000 | I27: =I29 -> 40000 | J27: =J29 -> 0
A28: Izvor financiranja 11 | D28: Opći prihodi i primici | E28: =E29 -> 0 | F28: =F29 -> 5000 | G28: =G29 -> 15000 | H28: =H29 -> 42000 | I28: =I29 -> 40000 | J28: =J29 -> 0
A29: 4 | D29: Rashodi za nabavu nefinancijske imovine | E29: =E30 -> 0 | F29: =F30 -> 5000 | G29: =G30 -> 15000 | H29: =H30 -> 42000 | I29: =I30 -> 40000 | J29: =J30 -> 0
A30: 42 | D30: Rashodi za nabavu proizvedene dugotrajne imovine | F30: 5000 | G30: 15000 | H30: =42000 -> 42000 | I30: 40000 | J30: 0
A31: Kapitalni projekt 1012-08 | D31: Rashodi za dodatna ulaganja na školama- IZVANSTANDARD | E31: =E33 -> 0 | F31: =F33 -> 80000 | G31: =G33 -> 40000 | H31: =H33 -> 44031 | I31: =I33 -> 44031 | J31: =J33 -> 44031
A32: Izvor financiranja 11 | D32: Opći prihodi i primici | E32: =E33 -> 0 | F32: =F33 -> 80000 | G32: =G33 -> 40000 | H32: =H33 -> 44031 | I32: =I33 -> 44031 | J32: =J33 -> 44031
A33: 4 | D33: Rashodi za nabavu nefinancijske imovine | E33: =E34 -> 0 | F33: =F34 -> 80000 | G33: =G34 -> 40000 | H33: =H34 -> 44031 | I33: =I34 -> 44031 | J33: =J34 -> 44031
A34: 45 | D34: Rashodi za dodatna ulaganja na nefinancijskoj imovini | F34: =80000 -> 80000 | G34: 40000 | H34: =44031 -> 44031 | I34: =44031 -> 44031 | J34: =44031 -> 44031
A35: Aktivnost 1012-09 | D35: Vlastiti i namjenski prihodi škola - rashodi za zaposlene | E35: =E36+E39+E42+E49+E53+E62+E45 -> 3134875.4 | F35: =F36+F39+F42+F49+F53+F62+F45 -> 3740997.2 | G35: =G36+G39+G42+G49+G53+G62+G45 -> 3434700 | H35: =H36+H39+H42+H49+H53+H62+H45 -> 3536600 | I35: =I36+I39+I42+I49+I53+I62+I45 -> 3536600 | J35: =J36+J39+J42+J49+J53+J62+J45 -> 3536600
A36: Izvor financiranja 54/56 | D36: Fin iz sredstava EU | E36: =E37 -> 0 | F36: =F37 -> 990 | G36: =G37 -> 0 | H36: =H37 -> 0 | I36: =I37 -> 0 | J36: =J37 -> 0
A37: 3 | D37: Rashodi poslovanja | E37: =E38 -> 0 | F37: =F38 -> 990 | G37: =G38 -> 0 | H37: =H38 -> 0 | I37: =I38 -> 0 | J37: =J38 -> 0
A38: 31 | D38: Rashodi za zaposlene (dar u naravi, pripravnica razlika za osnovicu) | E38: 0 | F38: 990
A39: Izvor financiranja 9231 | D39: Vlastiti prihodi - višak | E39: =E40 -> 0 | F39: =F40 -> 0 | G39: =G40 -> 0 | H39: =H40 -> 0 | I39: =I40 -> 0 | J39: =J40 -> 0
A40: 3 | D40: Rashodi poslovanja | E40: =E41 -> 0 | F40: =F41 -> 0 | G40: =G41 -> 0 | H40: =H41 -> 0 | I40: =I41 -> 0 | J40: =J41 -> 0
A41: 31 | D41: Rashodi za zaposlene (pripravnica razlika za osnovicu)
...
